BEGIN:VCALENDAR
VERSION:2.0
PRODID:-//IRDR - ECPv4.9.5//NONSGML v1.0//EN
CALSCALE:GREGORIAN
METHOD:PUBLISH
X-WR-CALNAME:IRDR
X-ORIGINAL-URL:http://old.irdrinternational.org
X-WR-CALDESC:Events for IRDR
BEGIN:VTIMEZONE
TZID:"Australia/Sydney"
BEGIN:STANDARD
TZOFFSETFROM:+1100
TZOFFSETTO:+1000
TZNAME:AEST
DTSTART:20180331T160000
END:STANDARD
BEGIN:DAYLIGHT
TZOFFSETFROM:+1000
TZOFFSETTO:+1100
TZNAME:AEDT
DTSTART:20181006T160000
END:DAYLIGHT
END:VTIMEZONE
BEGIN:VEVENT
DTSTART;TZID="Australia/Sydney":20181021T080000
DTEND;TZID="Australia/Sydney":20181024T170000
DTSTAMP:20260423T062133
CREATED:20180504T073117Z
LAST-MODIFIED:20180504T073117Z
UID:13124-1540108800-1540400400@old.irdrinternational.org
SUMMARY:14th APRU Multi-Hazards Symposium
DESCRIPTION:\n\n	Related\n
URL:http://old.irdrinternational.org/event/14th-apru-multi-hazards-symposium/
LOCATION:The Australian National University\, Australia
END:VEVENT
END:VCALENDAR