BEGIN:VCALENDAR
VERSION:2.0
PRODID:-//IRDR - ECPv4.9.5//NONSGML v1.0//EN
CALSCALE:GREGORIAN
METHOD:PUBLISH
X-WR-CALNAME:IRDR
X-ORIGINAL-URL:http://old.irdrinternational.org
X-WR-CALDESC:Events for IRDR
BEGIN:VTIMEZONE
TZID:"Asia/Tokyo"
BEGIN:STANDARD
TZOFFSETFROM:+0900
TZOFFSETTO:+0900
TZNAME:JST
DTSTART:20170101T000000
END:STANDARD
END:VTIMEZONE
BEGIN:VEVENT
DTSTART;TZID="Asia/Tokyo":20171120T080000
DTEND;TZID="Asia/Tokyo":20171121T170000
DTSTAMP:20260423T073019
CREATED:20171220T115927Z
LAST-MODIFIED:20171220T115927Z
UID:12593-1511164800-1511283600@old.irdrinternational.org
SUMMARY:18th IRDR SC Meeting
DESCRIPTION:\n\n	Related\n
URL:http://old.irdrinternational.org/event/18th-irdr-sc-meeting/
END:VEVENT
END:VCALENDAR