BEGIN:VCALENDAR
VERSION:2.0
PRODID:-//IRDR - ECPv4.9.5//NONSGML v1.0//EN
CALSCALE:GREGORIAN
METHOD:PUBLISH
X-WR-CALNAME:IRDR
X-ORIGINAL-URL:http://old.irdrinternational.org
X-WR-CALDESC:Events for IRDR
BEGIN:VTIMEZONE
TZID:"Asia/Shanghai"
BEGIN:STANDARD
TZOFFSETFROM:+0800
TZOFFSETTO:+0800
TZNAME:CST
DTSTART:20180101T000000
END:STANDARD
END:VTIMEZONE
BEGIN:VEVENT
DTSTART;TZID="Asia/Shanghai":20180417T080000
DTEND;TZID="Asia/Shanghai":20180418T170000
DTSTAMP:20260423T073430
CREATED:20171220T153522Z
LAST-MODIFIED:20180116T062237Z
UID:12600-1523952000-1524070800@old.irdrinternational.org
SUMMARY:2nd Asian Science and Technology Conference for Disaster Risk Reduction
DESCRIPTION:\n\n	Related\n
URL:http://old.irdrinternational.org/event/2nd-asian-science-and-technology-conference-for-disaster-risk-reduction/
LOCATION:Beijing\, China
END:VEVENT
END:VCALENDAR