BEGIN:VCALENDAR
VERSION:2.0
PRODID:-//IRDR - ECPv4.9.5//NONSGML v1.0//EN
CALSCALE:GREGORIAN
METHOD:PUBLISH
X-WR-CALNAME:IRDR
X-ORIGINAL-URL:http://old.irdrinternational.org
X-WR-CALDESC:Events for IRDR
BEGIN:VTIMEZONE
TZID:"Asia/Hong_Kong"
BEGIN:STANDARD
TZOFFSETFROM:+0800
TZOFFSETTO:+0800
TZNAME:HKT
DTSTART:20180101T000000
END:STANDARD
END:VTIMEZONE
BEGIN:VEVENT
DTSTART;TZID="Asia/Hong_Kong":20180618T080000
DTEND;TZID="Asia/Hong_Kong":20180621T170000
DTSTAMP:20260423T073551
CREATED:20180523T064351Z
LAST-MODIFIED:20180523T064351Z
UID:13232-1529308800-1529600400@old.irdrinternational.org
SUMMARY:International Conference on Risk2Resilience (R2R)
DESCRIPTION:\n\n	Related\n
URL:http://old.irdrinternational.org/event/international-conference-on-risk2resilience-r2r/
LOCATION:Kathmandu\, Nepal
ORGANIZER;CN="IRDR%20ICoE-NSET":MAILTO:nset@nset.org.np
END:VEVENT
END:VCALENDAR