BEGIN:VCALENDAR
VERSION:2.0
PRODID:-//IRDR - ECPv4.9.5//NONSGML v1.0//EN
CALSCALE:GREGORIAN
METHOD:PUBLISH
X-WR-CALNAME:IRDR
X-ORIGINAL-URL:http://old.irdrinternational.org
X-WR-CALDESC:Events for IRDR
BEGIN:VTIMEZONE
TZID:"Europe/Zurich"
BEGIN:DAYLIGHT
TZOFFSETFROM:+0100
TZOFFSETTO:+0200
TZNAME:CEST
DTSTART:20190331T010000
END:DAYLIGHT
BEGIN:STANDARD
TZOFFSETFROM:+0200
TZOFFSETTO:+0100
TZNAME:CET
DTSTART:20191027T010000
END:STANDARD
END:VTIMEZONE
BEGIN:VEVENT
DTSTART;TZID="Europe/Zurich":20190513T080000
DTEND;TZID="Europe/Zurich":20190514T140000
DTSTAMP:20260423T063431
CREATED:20190410T030656Z
LAST-MODIFIED:20190410T030656Z
UID:13901-1557734400-1557842400@old.irdrinternational.org
SUMMARY:Science and Policy Forum of 2019 Global Platform for DRR
DESCRIPTION:To register for the Science Forum\, click here. Please also ensure you have registered for the Global Platform here. \n\n\n	Related\n
URL:http://old.irdrinternational.org/event/science-and-policy-forum-of-2019-global-platform-for-drr/
LOCATION:Palais des Nations\, Geneva\, Switzerland
END:VEVENT
END:VCALENDAR