BEGIN:VCALENDAR
VERSION:2.0
PRODID:-//IRDR - ECPv4.9.5//NONSGML v1.0//EN
CALSCALE:GREGORIAN
METHOD:PUBLISH
X-WR-CALNAME:IRDR
X-ORIGINAL-URL:http://old.irdrinternational.org
X-WR-CALDESC:Events for IRDR
BEGIN:VTIMEZONE
TZID:"Asia/Hong_Kong"
BEGIN:STANDARD
TZOFFSETFROM:+0800
TZOFFSETTO:+0800
TZNAME:HKT
DTSTART:20180101T000000
END:STANDARD
END:VTIMEZONE
BEGIN:VEVENT
DTSTART;TZID="Asia/Hong_Kong":20181205T080000
DTEND;TZID="Asia/Hong_Kong":20181207T170000
DTSTAMP:20260423T063942
CREATED:20180705T030453Z
LAST-MODIFIED:20180705T030453Z
UID:13355-1543996800-1544202000@old.irdrinternational.org
SUMMARY:The 3rd Digital Belt and Road Conference
DESCRIPTION:\n	Announcement\n\n\n	Related\n
URL:http://old.irdrinternational.org/event/the-3rd-digital-belt-and-road-conference/
LOCATION:The Empark Grand Hotel\, Tengchong\, Yunnan\, China
END:VEVENT
END:VCALENDAR